BEGIN:VCALENDAR
VERSION:2.0
PRODID:-//ChamberMaster//Event Calendar 2.0//EN
METHOD:PUBLISH
X-PUBLISHED-TTL:P3D
REFRESH-INTERVAL:P3D
CALSCALE:GREGORIAN
BEGIN:VEVENT
DTSTART:20060914T230000Z
DTEND:20060914T230000Z
X-MICROSOFT-CDO-ALLDAYEVENT:FALSE
SUMMARY:Brownsburg Town Council Meeting
DESCRIPTION:
X-ALT-DESC;FMTTYPE=text/html:
LOCATION:470 East Northfield Drive\, Brownsburg\, IN 46112 at the Fire Territory Bldg\; 470 E. Northfield Dr.
UID:e.2778.234
SEQUENCE:3
DTSTAMP:20260424T100424Z
URL:https://www.brownsburg.com/events/details/brownsburg-town-council-meeting-09-14-2006-234
END:VEVENT

END:VCALENDAR
