BEGIN:VCALENDAR
VERSION:2.0
PRODID:-//ChamberMaster//Event Calendar 2.0//EN
METHOD:PUBLISH
X-PUBLISHED-TTL:P3D
REFRESH-INTERVAL:P3D
CALSCALE:GREGORIAN
BEGIN:VEVENT
DTSTART:20061031T230000Z
DTEND:20061101T020000Z
X-MICROSOFT-CDO-ALLDAYEVENT:FALSE
SUMMARY:Brownsburg Trick-or-Treating
DESCRIPTION:
X-ALT-DESC;FMTTYPE=text/html:
LOCATION:The Brownsburg Police Department has release the official time for trick-or-treating in town will be from 6pm-9pm on October 31st.
UID:e.2778.360
SEQUENCE:3
DTSTAMP:20260424T082538Z
URL:https://www.brownsburg.com/events/details/brownsburg-trick-or-treating-10-31-2006-360
END:VEVENT

END:VCALENDAR
