BEGIN:VCALENDAR
VERSION:2.0
PRODID:-//ChamberMaster//Event Calendar 2.0//EN
METHOD:PUBLISH
X-PUBLISHED-TTL:P3D
REFRESH-INTERVAL:P3D
CALSCALE:GREGORIAN
BEGIN:VEVENT
DTSTART:20070213T000000Z
DTEND:20070213T000000Z
X-MICROSOFT-CDO-ALLDAYEVENT:FALSE
SUMMARY:Brownsburg Zone of Appeals Meeting
DESCRIPTION:
X-ALT-DESC;FMTTYPE=text/html:
LOCATION:
UID:e.2778.390
SEQUENCE:3
DTSTAMP:20260424T030826Z
URL:https://www.brownsburg.com/events/details/brownsburg-zone-of-appeals-meeting-02-12-2007-390
END:VEVENT

END:VCALENDAR
