BEGIN:VCALENDAR
VERSION:2.0
PRODID:-//ChamberMaster//Event Calendar 2.0//EN
METHOD:PUBLISH
X-PUBLISHED-TTL:P3D
REFRESH-INTERVAL:P3D
CALSCALE:GREGORIAN
BEGIN:VEVENT
DTSTART:20101023T230000Z
DTEND:20101024T010000Z
X-MICROSOFT-CDO-ALLDAYEVENT:FALSE
SUMMARY:Budding Detectives Sought at the Brownsburg Public Library
DESCRIPTION:Budding Detectives Sought at the Brownsburg Public Library\n\n\n\n\n(Brownsburg\, Indiana) -- Join us for an evening of intrigue as the game of CLUE comes to life at the Brownsburg Public Library on Saturday\, October 9 or Saturday\, October 23 between 7 and 9 p.m.  You and your group (maximum of 5) will be led through the mansion by a detective to visit each room and try to narrow the field of suspects\, weapons\, and locales. In several rooms you will encounter various characters from the game...Miss Scarlet\, Colonel Mustard\, etc. You can talk with them\, but they probably won't reveal much (at least truthful anyway). Once you think you have solved the crime you'll write down your solution and give it to your detective. In the final room the detectives will check the answers and the person who gave him the correct solution first is the winner. That person will receive a special prize. The rest of the group will receive candy and a certificate. Souvenir photos will also be taken.  Timed tickets are available at the Brownsburg Public Library at 450 South Jefferson Street\, Brownsburg.  Tickets are $30/group (maximum of 5) or $7/person.  It will take approximately one (1) hour to complete your investigation. Don't miss out on kooky crime-solving fun for the whole family!  For more details\, please feel free to contact Amie Thomas at athomas@brownsburg.lib.in.us or (317) 852-3167\, ext. 108.  Proceeds will benefit Brownsburg Public Library programming and the Brownsburg High School Thespian Troupe.
X-ALT-DESC;FMTTYPE=text/html:<html>\n<head>\n</head>\n<body>\n    <font color="red"><strong>Budding Detectives Sought at the Brownsburg Public Library</strong></font>\n</body>\n</html>\n\n\n(Brownsburg\, Indiana) -- Join us for an evening of intrigue as the game of CLUE comes to life at the Brownsburg Public Library on Saturday\, October 9 or Saturday\, October 23 between 7 and 9 p.m.  You and your group (maximum of 5) will be led through the mansion by a detective to visit each room and try to narrow the field of suspects\, weapons\, and locales. In several rooms you will encounter various characters from the game...Miss Scarlet\, Colonel Mustard\, etc. You can talk with them\, but they probably won't reveal much (at least truthful anyway). Once you think you have solved the crime you'll write down your solution and give it to your detective. In the final room the detectives will check the answers and the person who gave him the correct solution first is the winner. That person will receive a special prize. The rest of the group will receive candy and a certificate. Souvenir photos will also be taken.  Timed tickets are available at the Brownsburg Public Library at 450 South Jefferson Street\, Brownsburg.  Tickets are $30/group (maximum of 5) or $7/person.  It will take approximately one (1) hour to complete your investigation. Don't miss out on kooky crime-solving fun for the whole family!  For more details\, please feel free to contact Amie Thomas at athomas@brownsburg.lib.in.us or (317) 852-3167\, ext. 108.  Proceeds will benefit Brownsburg Public Library programming and the Brownsburg High School Thespian Troupe.\n\n
LOCATION:Brownsburg Public Library\, Brownsburg\, IN 46112
UID:e.2778.1056
SEQUENCE:3
DTSTAMP:20260421T084806Z
URL:https://www.brownsburg.com/events/details/budding-detectives-sought-at-the-brownsburg-public-library-10-23-2010-1056
END:VEVENT

END:VCALENDAR
