BEGIN:VCALENDAR
VERSION:2.0
PRODID:-//ChamberMaster//Event Calendar 2.0//EN
METHOD:PUBLISH
X-PUBLISHED-TTL:P3D
REFRESH-INTERVAL:P3D
CALSCALE:GREGORIAN
BEGIN:VEVENT
DTSTART:20080827T200000Z
DTEND:20080827T231500Z
X-MICROSOFT-CDO-ALLDAYEVENT:FALSE
SUMMARY:Business Night at Brownsburg Bowl
DESCRIPTION:Introducing the "Living Room".  Appetizers will be served.  Enjoy a game of bowling for .50.  This .50 will go to the Cass Kastle Scholarship Program.  RSVP requested but not required to 858-9786.
X-ALT-DESC;FMTTYPE=text/html:Introducing the "Living Room".  Appetizers will be served.  Enjoy a game of bowling for .50.  This .50 will go to the Cass Kastle Scholarship Program.  RSVP requested but not required to 858-9786.
LOCATION:18 Whittington Drive\, Brownsburg\, IN 46112
UID:e.2778.576
SEQUENCE:3
DTSTAMP:20260423T011510Z
URL:https://www.brownsburg.com/events/details/business-night-at-brownsburg-bowl-08-27-2008-576
END:VEVENT

END:VCALENDAR
