BEGIN:VCALENDAR
VERSION:2.0
PRODID:-//ChamberMaster//Event Calendar 2.0//EN
METHOD:PUBLISH
X-PUBLISHED-TTL:P3D
REFRESH-INTERVAL:P3D
CALSCALE:GREGORIAN
BEGIN:VEVENT
DTSTART:20060321T000000Z
DTEND:20060321T000000Z
X-MICROSOFT-CDO-ALLDAYEVENT:FALSE
SUMMARY:Calvary UMC Donkey Invitational Basketball Tournament
DESCRIPTION:Doors open at 6:00pm.  Come watch the Brownsburg Fire Territory (The Blazes)\, the Brownsburg Police Department (The Tornados)\, The Brownsburg Middle School Teachers and the Calvary Methodist teams in action with Donkey Basketball!  Advanced tickets are $5 or you can pay $7 at the door.  Kids under 6 are free.  Advanced tickets are on sale at the Community Center Reception Desk or from any Calvary UMC church member.  Call 852-2541 for more details.
X-ALT-DESC;FMTTYPE=text/html:Doors open at 6:00pm.  Come watch the Brownsburg Fire Territory (The Blazes)\, the Brownsburg Police Department (The Tornados)\, The Brownsburg Middle School Teachers and the Calvary Methodist teams in action with Donkey Basketball!  Advanced tickets are $5 or you can pay $7 at the door.  Kids under 6 are free.  Advanced tickets are on sale at the Community Center Reception Desk or from any Calvary UMC church member.  Call 852-2541 for more details.
LOCATION:Brownsburg Community Center Gym (Old Varsity Gym). Doors open at 6:00pm. Advanced tickets are $5. Call 852-2541 for more information.
UID:e.2778.159
SEQUENCE:3
DTSTAMP:20260424T192213Z
URL:https://www.brownsburg.com/events/details/calvary-umc-donkey-invitational-basketball-tournament-03-20-2006-159
END:VEVENT

END:VCALENDAR
