BEGIN:VCALENDAR
VERSION:2.0
PRODID:-//ChamberMaster//Event Calendar 2.0//EN
METHOD:PUBLISH
X-PUBLISHED-TTL:P3D
REFRESH-INTERVAL:P3D
CALSCALE:GREGORIAN
BEGIN:VEVENT
DTSTART:20061213T163000Z
DTEND:20061213T163000Z
X-MICROSOFT-CDO-ALLDAYEVENT:FALSE
SUMMARY:Chamber Holiday Luncheon
DESCRIPTION:
X-ALT-DESC;FMTTYPE=text/html:
LOCATION:470 East Northfield Drive\, Brownsburg\, IN 46112 Come join the Chamber for the final luncheon of the year! Held at the Brownsburg Fire Territory Bldg. The cost is $10 per person and reservations are required.
UID:e.2778.367
SEQUENCE:3
DTSTAMP:20260424T054528Z
URL:https://www.brownsburg.com/events/details/chamber-holiday-luncheon-12-13-2006-367
END:VEVENT

END:VCALENDAR
