BEGIN:VCALENDAR
VERSION:2.0
PRODID:-//ChamberMaster//Event Calendar 2.0//EN
METHOD:PUBLISH
X-PUBLISHED-TTL:P3D
REFRESH-INTERVAL:P3D
CALSCALE:GREGORIAN
BEGIN:VEVENT
DTSTART:20060726T153000Z
DTEND:20060726T153000Z
X-MICROSOFT-CDO-ALLDAYEVENT:FALSE
SUMMARY:Chamber July Monthly Luncheon
DESCRIPTION:The next Monthly Luncheon will be Wednesday\, July 26th at 11:30am.  The featured speakers will be five of the Service Clubs in Brownsburg (Rotary\, Kiwanis\, Optimists\, Sertoma and Lion's Club).  Make reservations today to support your club or to learn how you can be a part of one!  Each club will have a table set up to display information about their organization.  \n\nNetworking begins at 11:20\, lunch will be served at 11:40 and speakers will begin just before noon.\n\nThe cost is $10 per person to attend and reservations are required.
X-ALT-DESC;FMTTYPE=text/html:The next Monthly Luncheon will be Wednesday\, July 26th at 11:30am.  The featured speakers will be five of the Service Clubs in Brownsburg (Rotary\, Kiwanis\, Optimists\, Sertoma and Lion's Club).  Make reservations today to support your club or to learn how you can be a part of one!  Each club will have a table set up to display information about their organization.  \n\nNetworking begins at 11:20\, lunch will be served at 11:40 and speakers will begin just before noon.\n\nThe cost is $10 per person to attend and reservations are required.
LOCATION:470 East Northfield Drive\, Brownsburg\, IN 46112 at the Fire Territory Bldg\; 470 E. Northfield Drive. Featured speakers will be five of the major service clubs in Brownsburg (Optimists\, Lion's Club\, Sertoma\, Rotary\, Kiwanis). $10 per person and reservations are required!
UID:e.2778.262
SEQUENCE:3
DTSTAMP:20260424T125355Z
URL:https://www.brownsburg.com/events/details/chamber-july-monthly-luncheon-07-26-2006-262
END:VEVENT

END:VCALENDAR
