BEGIN:VCALENDAR
VERSION:2.0
PRODID:-//ChamberMaster//Event Calendar 2.0//EN
METHOD:PUBLISH
X-PUBLISHED-TTL:P3D
REFRESH-INTERVAL:P3D
CALSCALE:GREGORIAN
BEGIN:VEVENT
DTSTART:20070221T163000Z
DTEND:20070221T163000Z
X-MICROSOFT-CDO-ALLDAYEVENT:FALSE
SUMMARY:Chamber Luncheon Featuring Duke Energy
DESCRIPTION:
X-ALT-DESC;FMTTYPE=text/html:
LOCATION:470 E Northfield Drive\, Brownsburg\, IN 46112 470 E Northfield Drive Fire Territory Bld. Bart Beal with Duke Energy will be the speaker. $10.00 per person RSVP 852-7885
UID:e.2778.399
SEQUENCE:3
DTSTAMP:20260424T030604Z
URL:https://www.brownsburg.com/events/details/chamber-luncheon-featuring-duke-energy-02-21-2007-399
END:VEVENT

END:VCALENDAR
