BEGIN:VCALENDAR
VERSION:2.0
PRODID:-//ChamberMaster//Event Calendar 2.0//EN
METHOD:PUBLISH
X-PUBLISHED-TTL:P3D
REFRESH-INTERVAL:P3D
CALSCALE:GREGORIAN
BEGIN:VEVENT
DTSTART:20100311T210000Z
DTEND:20100312T000000Z
X-MICROSOFT-CDO-ALLDAYEVENT:FALSE
SUMMARY:Chamber of Commerce Wellness Event
DESCRIPTION:This is an opportunity for all Business Owners and Employees to review their company's opportunities to help stay healthy and stay on the job site.
X-ALT-DESC;FMTTYPE=text/html:This is an opportunity for all Business Owners and Employees to review their company's opportunities to help stay healthy and stay on the job site.
LOCATION:Hendricks County 4-H and Conference Complex\, Danville\, IN 46122
UID:e.2778.923
SEQUENCE:3
DTSTAMP:20260421T193038Z
URL:https://www.brownsburg.com/events/details/chamber-of-commerce-wellness-event-03-11-2010-923
END:VEVENT

END:VCALENDAR
