BEGIN:VCALENDAR
VERSION:2.0
PRODID:-//ChamberMaster//Event Calendar 2.0//EN
METHOD:PUBLISH
X-PUBLISHED-TTL:P3D
REFRESH-INTERVAL:P3D
CALSCALE:GREGORIAN
BEGIN:VEVENT
DTSTART;VALUE=DATE:20060703
DTEND;VALUE=DATE:20060705
TRANSP:TRANSPARENT
X-MICROSOFT-CDO-ALLDAYEVENT:TRUE
SUMMARY:Chamber Office Closed for Holiday
DESCRIPTION:
X-ALT-DESC;FMTTYPE=text/html:
LOCATION:104 East Main Street\, Brownsburg\, IN 46112 104 E. Main. The Chamber office will be closed on Monday\, July 3rd and Tuesday\, July 4th for the Independence Day Holiday. We will reopen for business on Wednesday July 5th.
UID:e.2778.276
SEQUENCE:3
DTSTAMP:20260424T125154Z
URL:https://www.brownsburg.com/events/details/chamber-office-closed-for-holiday-07-03-2006-276
END:VEVENT

END:VCALENDAR
