BEGIN:VCALENDAR
VERSION:2.0
PRODID:-//ChamberMaster//Event Calendar 2.0//EN
METHOD:PUBLISH
X-PUBLISHED-TTL:P3D
REFRESH-INTERVAL:P3D
CALSCALE:GREGORIAN
BEGIN:VEVENT
DTSTART:20051216T230000Z
DTEND:20051216T230000Z
X-MICROSOFT-CDO-ALLDAYEVENT:FALSE
SUMMARY:Cheer Committee--Canned Good Sorting
DESCRIPTION:For more information\, call Calvary United Methodist Church at 852-2541 or Sally Mecklenburg at 852-6227.
X-ALT-DESC;FMTTYPE=text/html:For more information\, call Calvary United Methodist Church at 852-2541 or Sally Mecklenburg at 852-6227.
LOCATION:P.O. Box 639\, Brownsburg\, IN 46112 Impact Racing\, 1650 Northfield Drive
UID:e.2778.74
SEQUENCE:3
DTSTAMP:20260424T234706Z
URL:https://www.brownsburg.com/events/details/cheer-committee-canned-good-sorting-12-16-2005-74
END:VEVENT

END:VCALENDAR
