BEGIN:VCALENDAR
VERSION:2.0
PRODID:-//ChamberMaster//Event Calendar 2.0//EN
METHOD:PUBLISH
X-PUBLISHED-TTL:P3D
REFRESH-INTERVAL:P3D
CALSCALE:GREGORIAN
BEGIN:VEVENT
DTSTART:20051218T130000Z
DTEND:20051218T130000Z
X-MICROSOFT-CDO-ALLDAYEVENT:FALSE
SUMMARY:Cheer Committee--Gift Delivery
DESCRIPTION:For more information\, call Calvary United Methodist Church at 852-2541 or Sally Mecklenburg at 852-6227.
X-ALT-DESC;FMTTYPE=text/html:For more information\, call Calvary United Methodist Church at 852-2541 or Sally Mecklenburg at 852-6227.
LOCATION:P.O. Box 639\, Brownsburg\, IN 46112 Meet at Impact Racing\, 1650 Northfield Drive
UID:e.2778.77
SEQUENCE:3
DTSTAMP:20260424T234706Z
URL:https://www.brownsburg.com/events/details/cheer-committee-gift-delivery-12-18-2005-77
END:VEVENT

END:VCALENDAR
