BEGIN:VCALENDAR
VERSION:2.0
PRODID:-//ChamberMaster//Event Calendar 2.0//EN
METHOD:PUBLISH
X-PUBLISHED-TTL:P3D
REFRESH-INTERVAL:P3D
CALSCALE:GREGORIAN
BEGIN:VEVENT
DTSTART:20051216T230000Z
DTEND:20051216T230000Z
X-MICROSOFT-CDO-ALLDAYEVENT:FALSE
SUMMARY:Cheer Committee--Gift Wrapping
DESCRIPTION:For more information\, call Calvary United Methodist Church at 852-2541 or Sally Mecklenburg at 852-6227.
X-ALT-DESC;FMTTYPE=text/html:For more information\, call Calvary United Methodist Church at 852-2541 or Sally Mecklenburg at 852-6227.
LOCATION:P.O. Box 639\, Brownsburg\, IN 46112 Brownsburg High School Cafeteria\, 1000 S. Odell St.
UID:e.2778.75
SEQUENCE:3
DTSTAMP:20260424T234700Z
URL:https://www.brownsburg.com/events/details/cheer-committee-gift-wrapping-12-16-2005-75
END:VEVENT

END:VCALENDAR
