BEGIN:VCALENDAR
VERSION:2.0
PRODID:-//ChamberMaster//Event Calendar 2.0//EN
METHOD:PUBLISH
X-PUBLISHED-TTL:P3D
REFRESH-INTERVAL:P3D
CALSCALE:GREGORIAN
BEGIN:VEVENT
DTSTART:20061202T120000Z
DTEND:20061203T020000Z
X-MICROSOFT-CDO-ALLDAYEVENT:FALSE
SUMMARY:Chicago Shopping Trip
DESCRIPTION:
X-ALT-DESC;FMTTYPE=text/html:
LOCATION:111 Eastern Avenue\, Brownsburg\, IN 46112 bus leaves from the Community and Rec Center\; 111 Eastern Ave at 7am. Join us in Chicago for a day of shopping and sightseeing on the Magnificent Mile. You will have the opportunity to check out over 400 exclusive boutiques and stores as well as over 200 dining opportunities! Participants will be entertained by a movie and snacks on the coach bus. Children under 18 must be accompanied by an adult. The cost is $35 per person. Contact the Parks Department to reserve your spot today--858-4172.
UID:e.2778.335
SEQUENCE:3
DTSTAMP:20260424T054447Z
URL:https://www.brownsburg.com/events/details/chicago-shopping-trip-12-02-2006-335
END:VEVENT

END:VCALENDAR
