BEGIN:VCALENDAR
VERSION:2.0
PRODID:-//ChamberMaster//Event Calendar 2.0//EN
METHOD:PUBLISH
X-PUBLISHED-TTL:P3D
REFRESH-INTERVAL:P3D
CALSCALE:GREGORIAN
BEGIN:VEVENT
DTSTART:20050618T150000Z
DTEND:20050618T150000Z
X-MICROSOFT-CDO-ALLDAYEVENT:FALSE
SUMMARY:Children's Theatre - Mark Twain Show
DESCRIPTION:The Mark Twain Show is an artful array of Twain's most humorous stories\, wittiest quotes and even some of his most gripping drama.  Admission is $8 for adults & children.  Children under 3 are free.  Call 858-2228 to place reservations or pay at the door.\n\nShow dates are:  June 18\, 2005 \n                            June 25\, 2005\n                            July 2\, 2005 \n\nShow times are:  11:00 am and 1:00 pm each date.
X-ALT-DESC;FMTTYPE=text/html:The Mark Twain Show is an artful array of Twain's most humorous stories\, wittiest quotes and even some of his most gripping drama.  Admission is $8 for adults & children.  Children under 3 are free.  Call 858-2228 to place reservations or pay at the door.\n\nShow dates are:  June 18\, 2005 \n                            June 25\, 2005\n                            July 2\, 2005 \n\nShow times are:  11:00 am and 1:00 pm each date.
LOCATION:900 E. 56th Street\, Brownsburg\, IN 46112 56th Street & Northfield Drive
UID:e.2778.25
SEQUENCE:3
DTSTAMP:20260425T105630Z
URL:https://www.brownsburg.com/events/details/children-s-theatre-mark-twain-show-06-18-2005-25
END:VEVENT

END:VCALENDAR
