BEGIN:VCALENDAR
VERSION:2.0
PRODID:-//ChamberMaster//Event Calendar 2.0//EN
METHOD:PUBLISH
X-PUBLISHED-TTL:P3D
REFRESH-INTERVAL:P3D
CALSCALE:GREGORIAN
BEGIN:VEVENT
DTSTART:20081206T140000Z
DTEND:20081206T180000Z
X-MICROSOFT-CDO-ALLDAYEVENT:FALSE
SUMMARY:Christmas Bazaar
DESCRIPTION:Call Belle Schaaf at 852-8585 for more information.
X-ALT-DESC;FMTTYPE=text/html:Call Belle Schaaf at 852-8585 for more information.
LOCATION:2 E. Tilden Drive\, Brownsburg\, IN 46112 Brownsburg Meadows 2 East Tilden Drive *Jewelry*Holiday Crafts*Dolls*Baked Goods*Purses*And so much more!
UID:e.2778.556
SEQUENCE:3
DTSTAMP:20260422T190953Z
URL:https://www.brownsburg.com/events/details/christmas-bazaar-12-06-2008-556
END:VEVENT

END:VCALENDAR
