BEGIN:VCALENDAR
VERSION:2.0
PRODID:-//ChamberMaster//Event Calendar 2.0//EN
METHOD:PUBLISH
X-PUBLISHED-TTL:P3D
REFRESH-INTERVAL:P3D
CALSCALE:GREGORIAN
BEGIN:VEVENT
DTSTART;VALUE=DATE:20061201
DTEND;VALUE=DATE:20061204
TRANSP:TRANSPARENT
X-MICROSOFT-CDO-ALLDAYEVENT:TRUE
SUMMARY:Christmas Under the Stars---CANCELLED THIS WEEKEND
DESCRIPTION:
X-ALT-DESC;FMTTYPE=text/html:
LOCATION:Due to high winds\, the Christmas Under the Stars events for this weekend are cancelled
UID:e.2778.397
SEQUENCE:3
DTSTAMP:20260424T054637Z
URL:https://www.brownsburg.com/events/details/christmas-under-the-stars-cancelled-this-weekend-12-01-2006-397
END:VEVENT

END:VCALENDAR
