BEGIN:VCALENDAR
VERSION:2.0
PRODID:-//ChamberMaster//Event Calendar 2.0//EN
METHOD:PUBLISH
X-PUBLISHED-TTL:P3D
REFRESH-INTERVAL:P3D
CALSCALE:GREGORIAN
BEGIN:VEVENT
DTSTART:20061125T230000Z
DTEND:20061125T230000Z
X-MICROSOFT-CDO-ALLDAYEVENT:FALSE
SUMMARY:Christmas Under the Stars Parade
DESCRIPTION:
X-ALT-DESC;FMTTYPE=text/html:
LOCATION:The parade route will begin at Eastern Ave on Main St and travel west to Green St where it will head north and turn into Arbuckle Acres Park. Bonfires\, concessions and Santa will be at the park until 8pm
UID:e.2778.395
SEQUENCE:3
DTSTAMP:20260424T071936Z
URL:https://www.brownsburg.com/events/details/christmas-under-the-stars-parade-11-25-2006-395
END:VEVENT

END:VCALENDAR
