BEGIN:VCALENDAR
VERSION:2.0
PRODID:-//ChamberMaster//Event Calendar 2.0//EN
METHOD:PUBLISH
X-PUBLISHED-TTL:P3D
REFRESH-INTERVAL:P3D
CALSCALE:GREGORIAN
BEGIN:VEVENT
DTSTART:20051126T233000Z
DTEND:20051127T010000Z
X-MICROSOFT-CDO-ALLDAYEVENT:FALSE
SUMMARY:''Christmas Under The Stars'' Town Tree Lighting Ceremony
DESCRIPTION:Come and watch the winner of the Christmas ornament contest sponsored by the Brownsburg Public Library throw the switch for the light of the Town of Brownsburg's Christmas tree!  Free event with a bonfire and Santa in his house for the children to visit!
X-ALT-DESC;FMTTYPE=text/html:Come and watch the winner of the Christmas ornament contest sponsored by the Brownsburg Public Library throw the switch for the light of the Town of Brownsburg's Christmas tree!  Free event with a bonfire and Santa in his house for the children to visit!
LOCATION:200 N. Green Street\, Brownsburg\, IN 46112 200 N. Green Street in Arbuckle Acres Park!
UID:e.2778.30
SEQUENCE:3
DTSTAMP:20260425T013317Z
URL:https://www.brownsburg.com/events/details/christmas-under-the-stars-town-tree-lighting-ceremony-11-26-2005-30
END:VEVENT

END:VCALENDAR
