BEGIN:VCALENDAR
VERSION:2.0
PRODID:-//ChamberMaster//Event Calendar 2.0//EN
METHOD:PUBLISH
X-PUBLISHED-TTL:P3D
REFRESH-INTERVAL:P3D
CALSCALE:GREGORIAN
BEGIN:VEVENT
DTSTART:20070428T223000Z
DTEND:20070429T020000Z
X-MICROSOFT-CDO-ALLDAYEVENT:FALSE
SUMMARY:Club Roland Retirement SENIOR PROM
DESCRIPTION:
X-ALT-DESC;FMTTYPE=text/html:
LOCATION:
UID:e.2778.441
SEQUENCE:3
DTSTAMP:20260424T003438Z
URL:https://www.brownsburg.com/events/details/club-roland-retirement-senior-prom-04-28-2007-441
END:VEVENT

END:VCALENDAR
