BEGIN:VCALENDAR
VERSION:2.0
PRODID:-//ChamberMaster//Event Calendar 2.0//EN
METHOD:PUBLISH
X-PUBLISHED-TTL:P3D
REFRESH-INTERVAL:P3D
CALSCALE:GREGORIAN
BEGIN:VEVENT
DTSTART;VALUE=DATE:20060925
DTEND;VALUE=DATE:20060930
TRANSP:TRANSPARENT
X-MICROSOFT-CDO-ALLDAYEVENT:TRUE
SUMMARY:Coats for Kids Collection at the Public Safety Building
DESCRIPTION:
X-ALT-DESC;FMTTYPE=text/html:
LOCATION:55 E. Main\, Brownsburg\, IN 46112 Brownsburg Police Department Public Safety Building\; 55 E. Main Street. Police department personnel will be volunteering their time and be stationed on Adams Street (east side of the Public Safety Building) from 5 – 7p beginning September 25th to the 29th. The coats will then be taken to Tuchman Cleaners the following week and become a part of the distribution scheduled for Oct. 14th at the State Fairgrounds. For those unable to make it during these times there will also be a collection barrel in the lobby of the public safety building.
UID:e.2778.347
SEQUENCE:3
DTSTAMP:20260424T114337Z
URL:https://www.brownsburg.com/events/details/coats-for-kids-collection-at-the-public-safety-building-09-25-2006-347
END:VEVENT

END:VCALENDAR
