BEGIN:VCALENDAR
VERSION:2.0
PRODID:-//ChamberMaster//Event Calendar 2.0//EN
METHOD:PUBLISH
X-PUBLISHED-TTL:P3D
REFRESH-INTERVAL:P3D
CALSCALE:GREGORIAN
BEGIN:VEVENT
DTSTART;VALUE=DATE:20060527
DTEND;VALUE=DATE:20060528
TRANSP:TRANSPARENT
X-MICROSOFT-CDO-ALLDAYEVENT:TRUE
SUMMARY:Coca-Cola Night Before the 500 Featuring the USAC Midget Series
DESCRIPTION:
X-ALT-DESC;FMTTYPE=text/html:
LOCATION:10267 East U.S. Highway 136\, Indianapolis\, IN 46234 10267 East U.S. Hwy. 136
UID:e.2778.100
SEQUENCE:3
DTSTAMP:20260424T160641Z
URL:https://www.brownsburg.com/events/details/coca-cola-night-before-the-500-featuring-the-usac-midget-series-05-27-2006-100
END:VEVENT

END:VCALENDAR
