BEGIN:VCALENDAR
VERSION:2.0
PRODID:-//ChamberMaster//Event Calendar 2.0//EN
METHOD:PUBLISH
X-PUBLISHED-TTL:P3D
REFRESH-INTERVAL:P3D
CALSCALE:GREGORIAN
BEGIN:VEVENT
DTSTART:20081118T230000Z
DTEND:20081119T000000Z
X-MICROSOFT-CDO-ALLDAYEVENT:FALSE
SUMMARY:''College for Working Adults''
DESCRIPTION:You're invited to tour the Plainfield Campus and find out how we can help you get started on your degree.  We'll answer questions like….How will college fit into my busy schedule?  Am I too old?  How can I afford it?  Which degree works for me?
X-ALT-DESC;FMTTYPE=text/html:You're invited to tour the Plainfield Campus and find out how we can help you get started on your degree.  We'll answer questions like….How will college fit into my busy schedule?  Am I too old?  How can I afford it?  Which degree works for me?
LOCATION:6080 Clarks Creek Road\, Plainfield\, IN 46168 Indiana Tech Plainfield Campus 6080 Clarks Creek Road\, Plainfield RSVP 317-837-1490
UID:e.2778.627
SEQUENCE:3
DTSTAMP:20260422T202326Z
URL:https://www.brownsburg.com/events/details/college-for-working-adults-11-18-2008-627
END:VEVENT

END:VCALENDAR
