BEGIN:VCALENDAR
VERSION:2.0
PRODID:-//ChamberMaster//Event Calendar 2.0//EN
METHOD:PUBLISH
X-PUBLISHED-TTL:P3D
REFRESH-INTERVAL:P3D
CALSCALE:GREGORIAN
BEGIN:VEVENT
DTSTART:20050611T230000Z
DTEND:20050612T030000Z
X-MICROSOFT-CDO-ALLDAYEVENT:FALSE
SUMMARY:Comedy Show at Brownsburg's American Legion Post!
DESCRIPTION:Two shows\, 7:00 PM and 9:00 PM on Saturday\, June 11th!  Ken Sevara\, one of the most dynamic comedians working today\, will appear at the American Legion in Brownsburg for one night only.  \n\nSevara's irreverent view of the world gives him across-the-board appeal.  As he examines life\, Sevara's comedy goes for the jugular\, cuts through the hype and tells the plain truth.  Sevara has shared the stage with such notables as Jerry Seinfeld\, Bill Murray\, Chevy Chase & Gloria Estefan.  \n\nFor tickets or information\, please call 317-852-3200!
X-ALT-DESC;FMTTYPE=text/html:Two shows\, 7:00 PM and 9:00 PM on Saturday\, June 11th!  Ken Sevara\, one of the most dynamic comedians working today\, will appear at the American Legion in Brownsburg for one night only.  \n\nSevara's irreverent view of the world gives him across-the-board appeal.  As he examines life\, Sevara's comedy goes for the jugular\, cuts through the hype and tells the plain truth.  Sevara has shared the stage with such notables as Jerry Seinfeld\, Bill Murray\, Chevy Chase & Gloria Estefan.  \n\nFor tickets or information\, please call 317-852-3200!
LOCATION:636 East Main STreet\, Brownsburg\, IN 46112 American Legion Post #331. Call for tickets &/or information - (317) 852-3200.
UID:e.2778.37
SEQUENCE:3
DTSTAMP:20260425T105531Z
URL:https://www.brownsburg.com/events/details/comedy-show-at-brownsburg-s-american-legion-post-06-11-2005-37
END:VEVENT

END:VCALENDAR
