BEGIN:VCALENDAR
VERSION:2.0
PRODID:-//ChamberMaster//Event Calendar 2.0//EN
METHOD:PUBLISH
X-PUBLISHED-TTL:P3D
REFRESH-INTERVAL:P3D
CALSCALE:GREGORIAN
BEGIN:VEVENT
DTSTART:20080426T140000Z
DTEND:20080426T180000Z
X-MICROSOFT-CDO-ALLDAYEVENT:FALSE
SUMMARY:Community Shred Day
DESCRIPTION:
X-ALT-DESC;FMTTYPE=text/html:
LOCATION:31 N. Green Street\, Brownsburg\, IN 46112 Your 5.00 per box donation will benefit Crime Stoppers of Central Indiana.
UID:e.2778.538
SEQUENCE:3
DTSTAMP:20260423T070109Z
URL:https://www.brownsburg.com/events/details/community-shred-day-04-26-2008-538
END:VEVENT

END:VCALENDAR
