BEGIN:VCALENDAR
VERSION:2.0
PRODID:-//ChamberMaster//Event Calendar 2.0//EN
METHOD:PUBLISH
X-PUBLISHED-TTL:P3D
REFRESH-INTERVAL:P3D
CALSCALE:GREGORIAN
BEGIN:VEVENT
DTSTART:20071030T130000Z
DTEND:20071030T150000Z
X-MICROSOFT-CDO-ALLDAYEVENT:FALSE
SUMMARY:Core Tech Solutions
DESCRIPTION:
X-ALT-DESC;FMTTYPE=text/html:
LOCATION:450 S. Jefferson Street\, Brownsburg\, IN 46112 Brownsburg Public Library Conference Room: A
UID:e.2778.474
SEQUENCE:3
DTSTAMP:20260423T151929Z
URL:https://www.brownsburg.com/events/details/core-tech-solutions-10-30-2007-474
END:VEVENT

END:VCALENDAR
