BEGIN:VCALENDAR
VERSION:2.0
PRODID:-//ChamberMaster//Event Calendar 2.0//EN
METHOD:PUBLISH
X-PUBLISHED-TTL:P3D
REFRESH-INTERVAL:P3D
CALSCALE:GREGORIAN
BEGIN:VEVENT
DTSTART:20071002T130000Z
DTEND:20071002T150000Z
X-MICROSOFT-CDO-ALLDAYEVENT:FALSE
SUMMARY:Core Tech Web Solutions
DESCRIPTION:
X-ALT-DESC;FMTTYPE=text/html:
LOCATION:450 S Jefferson Street\, Brownsburg\, IN 46112 Brownsburg Public Library Conference Room A:
UID:e.2778.470
SEQUENCE:3
DTSTAMP:20260423T152005Z
URL:https://www.brownsburg.com/events/details/core-tech-web-solutions-10-02-2007-470
END:VEVENT

END:VCALENDAR
