BEGIN:VCALENDAR
VERSION:2.0
PRODID:-//ChamberMaster//Event Calendar 2.0//EN
METHOD:PUBLISH
X-PUBLISHED-TTL:P3D
REFRESH-INTERVAL:P3D
CALSCALE:GREGORIAN
BEGIN:VEVENT
DTSTART:20060715T120000Z
DTEND:20060715T190000Z
X-MICROSOFT-CDO-ALLDAYEVENT:FALSE
SUMMARY:Countree Peddlers Arts in the Park Show
DESCRIPTION:The 29th Annual Arts in the Park Show will take place on Saturday\, July 15th\, 2006.  This is the largest show in Hendricks County and Central Indiana.  Over 400 booths of quality\, handmade arts and crafts will be displayed.  Artists come from as many as 12 different states to show their creations.  Admission is $2.00 per person.\n\nThis event is sponsored by the Brownsburg Chamber of Commerce.  For questions\, please contact them at (317)852-7885 or via email at chamber@brownsburg.com.
X-ALT-DESC;FMTTYPE=text/html:The 29th Annual Arts in the Park Show will take place on Saturday\, July 15th\, 2006.  This is the largest show in Hendricks County and Central Indiana.  Over 400 booths of quality\, handmade arts and crafts will be displayed.  Artists come from as many as 12 different states to show their creations.  Admission is $2.00 per person.\n\nThis event is sponsored by the Brownsburg Chamber of Commerce.  For questions\, please contact them at (317)852-7885 or via email at chamber@brownsburg.com.
LOCATION:P.O. Box 82\, Brownsburg\, IN 46112 Arbuckle Acres Park\; 200 N. Green Street. Over 300 Booths of quality Arts and Crafts! Admission is $2.00 per person. Click on link above for more information.
UID:e.2778.43
SEQUENCE:3
DTSTAMP:20260424T125603Z
URL:https://www.brownsburg.com/events/details/countree-peddlers-arts-in-the-park-show-07-15-2006-43
END:VEVENT

END:VCALENDAR
