BEGIN:VCALENDAR
VERSION:2.0
PRODID:-//ChamberMaster//Event Calendar 2.0//EN
METHOD:PUBLISH
X-PUBLISHED-TTL:P3D
REFRESH-INTERVAL:P3D
CALSCALE:GREGORIAN
BEGIN:VEVENT
DTSTART:20070215T133000Z
DTEND:20070215T203000Z
X-MICROSOFT-CDO-ALLDAYEVENT:FALSE
SUMMARY:CPR Classes
DESCRIPTION:CPR & Pediatric First Aid classes available.
X-ALT-DESC;FMTTYPE=text/html:CPR & Pediatric First Aid classes available.
LOCATION:470 E. Northfield Drive\, Brownsburg\, IN 46112
UID:e.2778.427
SEQUENCE:3
DTSTAMP:20260424T031045Z
URL:https://www.brownsburg.com/events/details/cpr-classes-02-15-2007-427
END:VEVENT

END:VCALENDAR
