BEGIN:VCALENDAR
VERSION:2.0
PRODID:-//ChamberMaster//Event Calendar 2.0//EN
METHOD:PUBLISH
X-PUBLISHED-TTL:P3D
REFRESH-INTERVAL:P3D
CALSCALE:GREGORIAN
BEGIN:VEVENT
DTSTART:20060121T130000Z
DTEND:20060121T190000Z
X-MICROSOFT-CDO-ALLDAYEVENT:FALSE
SUMMARY:CPR & First Aid Class
DESCRIPTION:The Brownsburg Fire Territory is offering a CPR/First Aid class on Saturday January 21\, 2006\, for people interested in learning CPR & First Aid for Adults and Pediatrics.  The class will be at Station 131\, 55 E. Main Street\, Brownsburg\, from 8am-2pm.  The cost is $40 and includes your book and certification card upon completion of the class.\n\nVisit www.brownsburgfire.org for a registration form or call 317-852-1190 for more information.
X-ALT-DESC;FMTTYPE=text/html:The Brownsburg Fire Territory is offering a CPR/First Aid class on Saturday January 21\, 2006\, for people interested in learning CPR & First Aid for Adults and Pediatrics.  The class will be at Station 131\, 55 E. Main Street\, Brownsburg\, from 8am-2pm.  The cost is $40 and includes your book and certification card upon completion of the class.\n\nVisit www.brownsburgfire.org for a registration form or call 317-852-1190 for more information.
LOCATION:470 East Northfield Drive\, Brownsburg\, IN 46112 Brownsburg Fire Territory\, 55 E. Main\, Brownsburg. For people interested in learning CPR & First Aid for Adults and Pediatrics. The cost is $40 and registration is required by contacting www.brownsburgfire.org or 852-1190.
UID:e.2778.82
SEQUENCE:3
DTSTAMP:20260424T234520Z
URL:https://www.brownsburg.com/events/details/cpr-first-aid-class-01-21-2006-82
END:VEVENT

END:VCALENDAR
