BEGIN:VCALENDAR
VERSION:2.0
PRODID:-//ChamberMaster//Event Calendar 2.0//EN
METHOD:PUBLISH
X-PUBLISHED-TTL:P3D
REFRESH-INTERVAL:P3D
CALSCALE:GREGORIAN
BEGIN:VEVENT
DTSTART:20060901T140000Z
DTEND:20060901T200000Z
X-MICROSOFT-CDO-ALLDAYEVENT:FALSE
SUMMARY:Custom Car & Bike Show
DESCRIPTION:Win a $5000 custom Matco 'Rat Fink' tool box or any of a dozen prizes!    Preview the 2008 Dodge Challenger\, Gladiator & Rampage concept cars!  See 'Big Daddy' Ed Roth's 'Tweedy Pie'!  Meet the DSR drivers:  Tony Schumacher\, Melanie Troxel\, Gary Scelzi\, Ron Capps\, Whit Basemore\, Mike Ashley\, Erica Enders\, Richie Stevens\, Shaun Carlson\, Angelle Sampey & Antron Brown!
X-ALT-DESC;FMTTYPE=text/html:Win a $5000 custom Matco 'Rat Fink' tool box or any of a dozen prizes!    Preview the 2008 Dodge Challenger\, Gladiator & Rampage concept cars!  See 'Big Daddy' Ed Roth's 'Tweedy Pie'!  Meet the DSR drivers:  Tony Schumacher\, Melanie Troxel\, Gary Scelzi\, Ron Capps\, Whit Basemore\, Mike Ashley\, Erica Enders\, Richie Stevens\, Shaun Carlson\, Angelle Sampey & Antron Brown!
LOCATION:1681 E. Northfield Drive\, Brownsburg\, IN 46112 Hosted by the Indy Hi-Winders at Don Schumacher Racing\; 1681 E. Northfield Dr. Admission is a voluntary donation to Riley Hospital for Children. Entry fee of $10 per vehicle to benefit Riley. Rain or shine.
UID:e.2778.308
SEQUENCE:3
DTSTAMP:20260424T113314Z
URL:https://www.brownsburg.com/events/details/custom-car-bike-show-09-01-2006-308
END:VEVENT

END:VCALENDAR
