BEGIN:VCALENDAR
VERSION:2.0
PRODID:-//ChamberMaster//Event Calendar 2.0//EN
METHOD:PUBLISH
X-PUBLISHED-TTL:P3D
REFRESH-INTERVAL:P3D
CALSCALE:GREGORIAN
BEGIN:VEVENT
DTSTART;VALUE=DATE:20060402
DTEND;VALUE=DATE:20060403
TRANSP:TRANSPARENT
X-MICROSOFT-CDO-ALLDAYEVENT:TRUE
SUMMARY:Daylight Savings Time Begins
DESCRIPTION:
X-ALT-DESC;FMTTYPE=text/html:
LOCATION:Make sure you spring ahead and move your clocks forward one hour!
UID:e.2778.167
SEQUENCE:3
DTSTAMP:20260424T173119Z
URL:https://www.brownsburg.com/events/details/daylight-savings-time-begins-04-02-2006-167
END:VEVENT

END:VCALENDAR
