BEGIN:VCALENDAR
VERSION:2.0
PRODID:-//ChamberMaster//Event Calendar 2.0//EN
METHOD:PUBLISH
X-PUBLISHED-TTL:P3D
REFRESH-INTERVAL:P3D
CALSCALE:GREGORIAN
BEGIN:VEVENT
DTSTART:20081025T170000Z
DTEND:20081025T170000Z
X-MICROSOFT-CDO-ALLDAYEVENT:FALSE
SUMMARY:Dedication & Celebration of the Brownsburg Fire Territory Public Safety Trailer
DESCRIPTION:Please be our guest and share in the celebration and dedication of the Brownsburg Firre Territory Public Safety Trailer. Tours of the Public Safety Trailer will be provided after the ceremony
X-ALT-DESC;FMTTYPE=text/html:Please be our guest and share in the celebration and dedication of the Brownsburg Firre Territory Public Safety Trailer. Tours of the Public Safety Trailer will be provided after the ceremony
LOCATION:470 East Northfield Drive\, Brownsburg\, IN 46112 Brownsburg Fire Territory ~Please be our guest and share in the celebration and dedication of the Brownsburg Firre Territory Public Safety Trailer.
UID:e.2778.611
SEQUENCE:3
DTSTAMP:20260422T221019Z
URL:https://www.brownsburg.com/events/details/dedication-celebration-of-the-brownsburg-fire-territory-public-safety-trailer-10-25-2008-611
END:VEVENT

END:VCALENDAR
