BEGIN:VCALENDAR
VERSION:2.0
PRODID:-//ChamberMaster//Event Calendar 2.0//EN
METHOD:PUBLISH
X-PUBLISHED-TTL:P3D
REFRESH-INTERVAL:P3D
CALSCALE:GREGORIAN
BEGIN:VEVENT
DTSTART:20080915T123000Z
DTEND:20080915T150000Z
X-MICROSOFT-CDO-ALLDAYEVENT:FALSE
SUMMARY:Destination Assessment Workshop - Hendricks County Convention and Visitors Bureau
DESCRIPTION:
X-ALT-DESC;FMTTYPE=text/html:
LOCATION:Hendricks County Fairgrounds\, Danville\, IN 46122 Being held at the Hendricks County Fairgrounds. Continental breakfast served at 8:30. Program begins at 9:00. For more information or to RSVP please call 317-718-8750.
UID:e.2778.585
SEQUENCE:3
DTSTAMP:20260422T234524Z
URL:https://www.brownsburg.com/events/details/destination-assessment-workshop-hendricks-county-convention-and-visitors-bureau-09-15-2008-585
END:VEVENT

END:VCALENDAR
