BEGIN:VCALENDAR
VERSION:2.0
PRODID:-//ChamberMaster//Event Calendar 2.0//EN
METHOD:PUBLISH
X-PUBLISHED-TTL:P3D
REFRESH-INTERVAL:P3D
CALSCALE:GREGORIAN
BEGIN:VEVENT
DTSTART:20061024T233000Z
DTEND:20061025T003000Z
X-MICROSOFT-CDO-ALLDAYEVENT:FALSE
SUMMARY:Different Children\, Different Needs
DESCRIPTION:
X-ALT-DESC;FMTTYPE=text/html:
LOCATION:111 Eastern Avenue\, Brownsburg\, IN 46112 at teh Community and Rec Center\; 111 Eastern Avenue. Come and learn tips on how to recognize the unique qualities that each child is born with. Identify these personality traits in each of your children so you can parent more effectively and understand them more completely. $5/member\, $8/non-member. Contact the BPRD to reserve your spot today--858-4172.
UID:e.2778.329
SEQUENCE:3
DTSTAMP:20260424T082405Z
URL:https://www.brownsburg.com/events/details/different-children-different-needs-10-24-2006-329
END:VEVENT

END:VCALENDAR
