BEGIN:VCALENDAR
VERSION:2.0
PRODID:-//ChamberMaster//Event Calendar 2.0//EN
METHOD:PUBLISH
X-PUBLISHED-TTL:P3D
REFRESH-INTERVAL:P3D
CALSCALE:GREGORIAN
BEGIN:VEVENT
DTSTART:20060909T130000Z
DTEND:20060909T180000Z
X-MICROSOFT-CDO-ALLDAYEVENT:FALSE
SUMMARY:Dodgeball Tourament
DESCRIPTION:
X-ALT-DESC;FMTTYPE=text/html:
LOCATION:111 Eastern Avenue\, Brownsburg\, IN 46112 at the Community and Rec Center\; 111 Eastern Ave. The Brownsburg Parks and Recreation Department is bringing back the exciting game of Dodgeball for a one day tournament. Come see how well you and your team will fare against others. Division for ages 7-11\, 12-15 and 16+. Contact them for more information 858-4172.
UID:e.2778.337
SEQUENCE:3
DTSTAMP:20260424T095941Z
URL:https://www.brownsburg.com/events/details/dodgeball-tourament-09-09-2006-337
END:VEVENT

END:VCALENDAR
