BEGIN:VCALENDAR
VERSION:2.0
PRODID:-//ChamberMaster//Event Calendar 2.0//EN
METHOD:PUBLISH
X-PUBLISHED-TTL:P3D
REFRESH-INTERVAL:P3D
CALSCALE:GREGORIAN
BEGIN:VEVENT
DTSTART;VALUE=DATE:20060909
DTEND;VALUE=DATE:20060910
TRANSP:TRANSPARENT
X-MICROSOFT-CDO-ALLDAYEVENT:TRUE
SUMMARY:Dodgeball Tournament at BPRC
DESCRIPTION:
X-ALT-DESC;FMTTYPE=text/html:
LOCATION:111 Eastern Avenue\, Brownsburg\, IN 46112 The Brownsburg Parks & Recreation Department is bringing back that favorite childhood game of Dodge Bal\, for a one-day tournament. Cost is $50 per team. Call 858-4172 for more information.
UID:e.2778.254
SEQUENCE:3
DTSTAMP:20260424T100421Z
URL:https://www.brownsburg.com/events/details/dodgeball-tournament-at-bprc-09-09-2006-254
END:VEVENT

END:VCALENDAR
