BEGIN:VCALENDAR
VERSION:2.0
PRODID:-//ChamberMaster//Event Calendar 2.0//EN
METHOD:PUBLISH
X-PUBLISHED-TTL:P3D
REFRESH-INTERVAL:P3D
CALSCALE:GREGORIAN
BEGIN:VEVENT
DTSTART:20061028T220000Z
DTEND:20061028T233000Z
X-MICROSOFT-CDO-ALLDAYEVENT:FALSE
SUMMARY:Dog Costume Contest at Haunts of Hidden River
DESCRIPTION:
X-ALT-DESC;FMTTYPE=text/html:
LOCATION:200 N. Green Street\, Brownsburg\, IN 46112 at Arbuckle Park\; 200 N. Green Street. Pre-register at brownbsurg.or or by calling 858-4172. $10 entry fee. Prizes and ribbons awarded! Friends of Hendricks County Animal Shelter will have a booth.
UID:e.2778.351
SEQUENCE:3
DTSTAMP:20260424T103258Z
URL:https://www.brownsburg.com/events/details/dog-costume-contest-at-haunts-of-hidden-river-10-28-2006-351
END:VEVENT

END:VCALENDAR
