BEGIN:VCALENDAR
VERSION:2.0
PRODID:-//ChamberMaster//Event Calendar 2.0//EN
METHOD:PUBLISH
X-PUBLISHED-TTL:P3D
REFRESH-INTERVAL:P3D
CALSCALE:GREGORIAN
BEGIN:VEVENT
DTSTART:20070518T210000Z
DTEND:20070519T010000Z
X-MICROSOFT-CDO-ALLDAYEVENT:FALSE
SUMMARY:Donatos Pizza Presents Brownsburg Community Night
DESCRIPTION:Donatos Pizza Presents Brownsburg Community Night Friday\, May 18 5:00pm - 9:00pm 10% of all Doantos Sales will be donated to the Brownsburg Parks & Recreation Department.
X-ALT-DESC;FMTTYPE=text/html:Donatos Pizza Presents Brownsburg Community Night Friday\, May 18 5:00pm - 9:00pm 10% of all Doantos Sales will be donated to the Brownsburg Parks & Recreation Department.
LOCATION:813 E. Main Street\, Brownsburg\, IN 46112
UID:e.2778.451
SEQUENCE:3
DTSTAMP:20260423T224736Z
URL:https://www.brownsburg.com/events/details/donatos-pizza-presents-brownsburg-community-night-05-18-2007-451
END:VEVENT

END:VCALENDAR
