BEGIN:VCALENDAR
VERSION:2.0
PRODID:-//ChamberMaster//Event Calendar 2.0//EN
METHOD:PUBLISH
X-PUBLISHED-TTL:P3D
REFRESH-INTERVAL:P3D
CALSCALE:GREGORIAN
BEGIN:VEVENT
DTSTART:20090208T003000Z
DTEND:20090208T030000Z
X-MICROSOFT-CDO-ALLDAYEVENT:FALSE
SUMMARY:Evening of Indulgence
DESCRIPTION:Hendricks County Professional Business Women's Association has been around for many years. (Since the early 1900's)  The HCPBWA is a networking group of business and professional women.  We promote educational and leadership opportunities as well as support our community.  Each year we give two scholarships to area teens graduating from a Hendricks County High School.   The Evening of Indulgence is a fundraiser to help our efforts.\n\nThe spa menu consists of representatives from our organization. Massages from Regina Alexander and crew\, Facials by Shauna Cooper of Beauty Control\, Hand Treatments by Mel Cooper of Mary Kay Cosmetics\, Foot Treatment\, Evening makeup for that special evening\, Accessorizing of jewelry by Mary Wirt  Each station will provide a door prize. One lucky person will receive a basket of goodies from all stations.\n \nContact Nancy Cockrum\nPresident WOB Office Supplies Phone: 317-203-3352
X-ALT-DESC;FMTTYPE=text/html:Hendricks County Professional Business Women's Association has been around for many years. (Since the early 1900's)  The HCPBWA is a networking group of business and professional women.  We promote educational and leadership opportunities as well as support our community.  Each year we give two scholarships to area teens graduating from a Hendricks County High School.   The Evening of Indulgence is a fundraiser to help our efforts.\n\nThe spa menu consists of representatives from our organization. Massages from Regina Alexander and crew\, Facials by Shauna Cooper of Beauty Control\, Hand Treatments by Mel Cooper of Mary Kay Cosmetics\, Foot Treatment\, Evening makeup for that special evening\, Accessorizing of jewelry by Mary Wirt  Each station will provide a door prize. One lucky person will receive a basket of goodies from all stations.\n \nContact Nancy Cockrum\nPresident WOB Office Supplies Phone: 317-203-3352\n
LOCATION:11 Hilltop Drive\, Danville\, IN 46122 Park Square Manor \, Avon This evening will provide relaxing music\, linen covered tables and candlelight. Sit by the fire and enjoy scrumptious appetizers\, wine\, cheeses and chocolates while waiting for your spa treatments. It is a night of pampering. Cost is only $15
UID:e.2778.650
SEQUENCE:3
DTSTAMP:20260422T161115Z
URL:https://www.brownsburg.com/events/details/evening-of-indulgence-02-07-2009-650
END:VEVENT

END:VCALENDAR
