BEGIN:VCALENDAR
VERSION:2.0
PRODID:-//ChamberMaster//Event Calendar 2.0//EN
METHOD:PUBLISH
X-PUBLISHED-TTL:P3D
REFRESH-INTERVAL:P3D
CALSCALE:GREGORIAN
BEGIN:VEVENT
DTSTART;VALUE=DATE:20081112
DTEND;VALUE=DATE:20081207
TRANSP:TRANSPARENT
X-MICROSOFT-CDO-ALLDAYEVENT:TRUE
SUMMARY:Evergreen Wreath Sale-Mental Health America
DESCRIPTION:Mental Health America of Hendrick County is selling decorated evergreen wreaths.  the wreats come in three sizes:14 inch for $22\, 20 inch for $32\, 30inch for $45 -wuith a choice of the following bow colors: red\, burgandy\, country plaid\, tartan and gold.  You may order by calling 272-0027 or visit mhahc.com for information about our agency
X-ALT-DESC;FMTTYPE=text/html:Mental Health America of Hendrick County is selling decorated evergreen wreaths.  the wreats come in three sizes:14 inch for $22\, 20 inch for $32\, 30inch for $45 -wuith a choice of the following bow colors: red\, burgandy\, country plaid\, tartan and gold.  You may order by calling 272-0027 or visit mhahc.com for information about our agency
LOCATION:14 inch for $22\, 20 inch for $32\, 30inch for $45 Please call 272-0027 for more information
UID:e.2778.630
SEQUENCE:3
DTSTAMP:20260422T221314Z
URL:https://www.brownsburg.com/events/details/evergreen-wreath-sale-mental-health-america-11-12-2008-630
END:VEVENT

END:VCALENDAR
