BEGIN:VCALENDAR
VERSION:2.0
PRODID:-//ChamberMaster//Event Calendar 2.0//EN
METHOD:PUBLISH
X-PUBLISHED-TTL:P3D
REFRESH-INTERVAL:P3D
CALSCALE:GREGORIAN
BEGIN:VEVENT
DTSTART;VALUE=DATE:20080422
DTEND;VALUE=DATE:20080423
TRANSP:TRANSPARENT
X-MICROSOFT-CDO-ALLDAYEVENT:TRUE
SUMMARY:EXCELERATE! 2nd Annual Entrepreneur and Small Business Expo
DESCRIPTION:
X-ALT-DESC;FMTTYPE=text/html:
LOCATION:1900 E Main Street\, Danville\, IN 46122 Sponsorships and Booth space available. Contact Rick Myers at 557-1111
UID:e.2778.527
SEQUENCE:3
DTSTAMP:20260423T070711Z
URL:https://www.brownsburg.com/events/details/excelerate-2nd-annual-entrepreneur-and-small-business-expo-04-22-2008-527
END:VEVENT

END:VCALENDAR
