BEGIN:VCALENDAR
VERSION:2.0
PRODID:-//ChamberMaster//Event Calendar 2.0//EN
METHOD:PUBLISH
X-PUBLISHED-TTL:P3D
REFRESH-INTERVAL:P3D
CALSCALE:GREGORIAN
BEGIN:VEVENT
DTSTART;VALUE=DATE:20061013
DTEND;VALUE=DATE:20061016
TRANSP:TRANSPARENT
X-MICROSOFT-CDO-ALLDAYEVENT:TRUE
SUMMARY:Fall Sportsman Classic
DESCRIPTION:
X-ALT-DESC;FMTTYPE=text/html:
LOCATION:10267 East U.S. Highway 136\, Indianapolis\, IN 46234 10267 East U.S. Hwy 136
UID:e.2778.125
SEQUENCE:3
DTSTAMP:20260424T082658Z
URL:https://www.brownsburg.com/events/details/fall-sportsman-classic-10-13-2006-125
END:VEVENT

END:VCALENDAR
