BEGIN:VCALENDAR
VERSION:2.0
PRODID:-//ChamberMaster//Event Calendar 2.0//EN
METHOD:PUBLISH
X-PUBLISHED-TTL:P3D
REFRESH-INTERVAL:P3D
CALSCALE:GREGORIAN
BEGIN:VEVENT
DTSTART:20061005T110000Z
DTEND:20061005T133000Z
X-MICROSOFT-CDO-ALLDAYEVENT:FALSE
SUMMARY:Fast Start Business Accelerator Workshop - Research Before Risk
DESCRIPTION:The Hendricks County Economic Development Partnership and the FastStart Business Accelerator are offering a series of short seminars dealing with new product development.  \nThis series of programs is intended to help entrepreneurs\, inventors and owners of established businesses who want to commercialize their innovations by providing information and insights about the process of transforming ideas into profitable products.\nThe individual sessions in the series are:\n•	(October 5) Research Before Risk:  Evaluating the Market and Technical Feasibility of a New Product Idea  Presenters:  Brad Kelsheimer\, Rose-Hulman Ventures and Polly Boruff-Jones\, IUPUI Library\n•	(October 12) Myths and Realities of Patents\, Trademarks\, Copyrights and Trade Secrets  Presenters:  Hamid Piroozi and Stephen Rost\, Bose McKinney & Evans LLP\n•	(October 19) Successful Licensing Strategies Presenter:  Christine Orich\, Bose McKinney & Evans LLP\n•	(October 26) Commercializing New Products Presenters:  Kenneth Brown\, Jr.\, New Product Development Professional and Julian Karras\, Baldwin-Wilson Development Corporation\n\nRegistration begins at 7:00 a.m. each date.  Each session will run from 7:30 to 9:30 am.  The registration fee for an individual session is $30.00.  A special discounted fee of $100 is available to attendees who register for all four sessions in the series.  All four seminars will be held at the Duke Energy complex\, 1000 E. Main Street\, Plainfield.\nTo register or to receive a brochure\, please call Fatima DeCastro at (317) 745-2400.  To view a copy of the brochure\, go to the Hendricks County Economic Development Partnership web site at http://www.hcedp.org    For more information\, please contact Kevin Jones\, FastStart Business Accelerator\, at the same phone number or at jones@fast-start.org.
X-ALT-DESC;FMTTYPE=text/html:The Hendricks County Economic Development Partnership and the FastStart Business Accelerator are offering a series of short seminars dealing with new product development.  \nThis series of programs is intended to help entrepreneurs\, inventors and owners of established businesses who want to commercialize their innovations by providing information and insights about the process of transforming ideas into profitable products.\nThe individual sessions in the series are:\n•	(October 5) Research Before Risk:  Evaluating the Market and Technical Feasibility of a New Product Idea  Presenters:  Brad Kelsheimer\, Rose-Hulman Ventures and Polly Boruff-Jones\, IUPUI Library\n•	(October 12) Myths and Realities of Patents\, Trademarks\, Copyrights and Trade Secrets  Presenters:  Hamid Piroozi and Stephen Rost\, Bose McKinney & Evans LLP\n•	(October 19) Successful Licensing Strategies Presenter:  Christine Orich\, Bose McKinney & Evans LLP\n•	(October 26) Commercializing New Products Presenters:  Kenneth Brown\, Jr.\, New Product Development Professional and Julian Karras\, Baldwin-Wilson Development Corporation\n\nRegistration begins at 7:00 a.m. each date.  Each session will run from 7:30 to 9:30 am.  The registration fee for an individual session is $30.00.  A special discounted fee of $100 is available to attendees who register for all four sessions in the series.  All four seminars will be held at the Duke Energy complex\, 1000 E. Main Street\, Plainfield.\nTo register or to receive a brochure\, please call Fatima DeCastro at (317) 745-2400.  To view a copy of the brochure\, go to the Hendricks County Economic Development Partnership web site at http://www.hcedp.org    For more information\, please contact Kevin Jones\, FastStart Business Accelerator\, at the same phone number or at jones@fast-start.org.  \n
LOCATION:1000 E. Main St.\, Plainfield\, IN 46168 at the Duke Energy complex\, 1000 E. Main St.\; Plainfield. Topic - Research Before Risk: Evaluating the Market and Technical Feasibility of a New Product Idea. Registration begins at 7am and the session will run from 7:30-9:30am. The registration fee is $30. To register call 745-2400.
UID:e.2778.338
SEQUENCE:3
DTSTAMP:20260424T084901Z
URL:https://www.brownsburg.com/events/details/fast-start-business-accelerator-workshop-research-before-risk-10-05-2006-338
END:VEVENT

END:VCALENDAR
