BEGIN:VCALENDAR
VERSION:2.0
PRODID:-//ChamberMaster//Event Calendar 2.0//EN
METHOD:PUBLISH
X-PUBLISHED-TTL:P3D
REFRESH-INTERVAL:P3D
CALSCALE:GREGORIAN
BEGIN:VEVENT
DTSTART:20051015T210000Z
DTEND:20051015T230000Z
X-MICROSOFT-CDO-ALLDAYEVENT:FALSE
SUMMARY:First Annual ''Haunts of Hidden River'' Chili Cook-off!
DESCRIPTION:Enter your own chili recipe to win prizes if voted the best chili of the show!  The Grand Prize winner will have the chili recipe served at Brownsburg's Amarillo Red's restaurant for 1 year with the winner's name on the menu!  Chili cook-off entry fee is $20.  Entry forms can be requested for the Brownsburg Chamber of Commerce.\n\nIf you don't have a favorite chili recipe and just want to come out to sample each entry and vote for your favorite\, the cost is only $5 (5 years old and under is free).
X-ALT-DESC;FMTTYPE=text/html:Enter your own chili recipe to win prizes if voted the best chili of the show!  The Grand Prize winner will have the chili recipe served at Brownsburg's Amarillo Red's restaurant for 1 year with the winner's name on the menu!  Chili cook-off entry fee is $20.  Entry forms can be requested for the Brownsburg Chamber of Commerce.\n\nIf you don't have a favorite chili recipe and just want to come out to sample each entry and vote for your favorite\, the cost is only $5 (5 years old and under is free).  
LOCATION:200 N. Green Street\, Brownsburg\, IN 46112 Arbuckle Acres Park in the town of Brownsburg.
UID:e.2778.28
SEQUENCE:3
DTSTAMP:20260425T031150Z
URL:https://www.brownsburg.com/events/details/first-annual-haunts-of-hidden-river-chili-cook-off-10-15-2005-28
END:VEVENT

END:VCALENDAR
