BEGIN:VCALENDAR
VERSION:2.0
PRODID:-//ChamberMaster//Event Calendar 2.0//EN
METHOD:PUBLISH
X-PUBLISHED-TTL:P3D
REFRESH-INTERVAL:P3D
CALSCALE:GREGORIAN
BEGIN:VEVENT
DTSTART:20060929T170000Z
DTEND:20060929T200000Z
X-MICROSOFT-CDO-ALLDAYEVENT:FALSE
SUMMARY:Free Car Seat Clinic
DESCRIPTION:
X-ALT-DESC;FMTTYPE=text/html:
LOCATION:55 East Main Street\, Brownsburg\, IN 46112 Brownsburg Fire Territory will be hosting a Free Car Seat Clinic for the public on Friday\, September 29\, 2006 from 1:00pm - 4:00pm at 55 E. Main Street in Brownsburg. Call 852-1190 to schedule your appointment.
UID:e.2778.353
SEQUENCE:3
DTSTAMP:20260424T100421Z
URL:https://www.brownsburg.com/events/details/free-car-seat-clinic-09-29-2006-353
END:VEVENT

END:VCALENDAR
