BEGIN:VCALENDAR
VERSION:2.0
PRODID:-//ChamberMaster//Event Calendar 2.0//EN
METHOD:PUBLISH
X-PUBLISHED-TTL:P3D
REFRESH-INTERVAL:P3D
CALSCALE:GREGORIAN
BEGIN:VEVENT
DTSTART:20060301T230000Z
DTEND:20060302T010000Z
X-MICROSOFT-CDO-ALLDAYEVENT:FALSE
SUMMARY:Free Cigar Tasting
DESCRIPTION:
X-ALT-DESC;FMTTYPE=text/html:
LOCATION:36 East Main Street\, Brownsburg\, IN 46112 36 East Main Street. We will offer some free cigars for our customers to try\, as well as draw for the free $400 Ostrich Trinidad Humidor this night. You get an entry for each $20 you spend in the store or bar from now until the drawing this night. FYI.. You must be present at the 8PM drawing to win.
UID:e.2778.154
SEQUENCE:3
DTSTAMP:20260424T191310Z
URL:https://www.brownsburg.com/events/details/free-cigar-tasting-03-01-2006-154
END:VEVENT

END:VCALENDAR
