BEGIN:VCALENDAR
VERSION:2.0
PRODID:-//ChamberMaster//Event Calendar 2.0//EN
METHOD:PUBLISH
X-PUBLISHED-TTL:P3D
REFRESH-INTERVAL:P3D
CALSCALE:GREGORIAN
BEGIN:VEVENT
DTSTART:20071021T190000Z
DTEND:20071021T190000Z
X-MICROSOFT-CDO-ALLDAYEVENT:FALSE
SUMMARY:Free Concert by the Hendricks Symphony Orchestra and Hendricks Symphonic Choir
DESCRIPTION:
X-ALT-DESC;FMTTYPE=text/html:
LOCATION:
UID:e.2778.469
SEQUENCE:3
DTSTAMP:20260423T170714Z
URL:https://www.brownsburg.com/events/details/free-concert-by-the-hendricks-symphony-orchestra-and-hendricks-symphonic-choir-10-21-2007-469
END:VEVENT

END:VCALENDAR
