BEGIN:VCALENDAR
VERSION:2.0
PRODID:-//ChamberMaster//Event Calendar 2.0//EN
METHOD:PUBLISH
X-PUBLISHED-TTL:P3D
REFRESH-INTERVAL:P3D
CALSCALE:GREGORIAN
BEGIN:VEVENT
DTSTART:20060317T220000Z
DTEND:20060318T010000Z
X-MICROSOFT-CDO-ALLDAYEVENT:FALSE
SUMMARY:Free Food Friday - St. Patty's Day Style!
DESCRIPTION:
X-ALT-DESC;FMTTYPE=text/html:
LOCATION:36 East Main Street\, Brownsburg\, IN 46112 36 East Main Street\, My Favorite Cigar & Bar. Green beer or green Midori Sours are the featured drinks of the day! Also have some corned beef and cabbage as our Free Food Fridays continue each week now!
UID:e.2778.162
SEQUENCE:3
DTSTAMP:20260424T204138Z
URL:https://www.brownsburg.com/events/details/free-food-friday-st-patty-s-day-style-03-17-2006-162
END:VEVENT

END:VCALENDAR
